BEGIN:VCALENDAR
VERSION:2.0
PRODID:-//Who Cares? Scotland - ECPv6.15.20//NONSGML v1.0//EN
CALSCALE:GREGORIAN
METHOD:PUBLISH
X-WR-CALNAME:Who Cares? Scotland
X-ORIGINAL-URL:https://www.whocaresscotland.org
X-WR-CALDESC:Events for Who Cares? Scotland
REFRESH-INTERVAL;VALUE=DURATION:PT1H
X-Robots-Tag:noindex
X-PUBLISHED-TTL:PT1H
BEGIN:VTIMEZONE
TZID:UTC
BEGIN:STANDARD
TZOFFSETFROM:+0000
TZOFFSETTO:+0000
TZNAME:UTC
DTSTART:20230101T000000
END:STANDARD
END:VTIMEZONE
BEGIN:VEVENT
DTSTART;TZID=UTC:20250319T163000
DTEND;TZID=UTC:20250319T180000
DTSTAMP:20260421T114511
CREATED:20250129T164326Z
LAST-MODIFIED:20250129T164557Z
UID:10001288-1742401800-1742407200@www.whocaresscotland.org
SUMMARY:East Lothian Champions Board S1-S4
DESCRIPTION:Come along to the East Lothian Champions Board S1-S4 group and meet other Care Experienced young people\, share experiences and most importantly\, have FUN! \nWe meet every 2nd Wednesday\, the dates are: \n5th June \nLocation: The Gatehouse\, Musselburgh\, EH21 7JY \nContact: For more information you can get in touch with Keith Ward (Development Officer – South East) by emailing kward@whocaresscotland.org or calling 07712 870 335
URL:https://www.whocaresscotland.org/event/east-lothian-champions-board-s1-s4-2/2025-03-19/
LOCATION:The Gatehouse\, Musselburgh\, EH21 7JY
CATEGORIES:Group
ATTACH;FMTTYPE=image/png:https://www.whocaresscotland.org/wp-content/uploads/2024/05/215.png
END:VEVENT
BEGIN:VEVENT
DTSTART;TZID=UTC:20250305T163000
DTEND;TZID=UTC:20250305T180000
DTSTAMP:20260421T114511
CREATED:20250129T164326Z
LAST-MODIFIED:20250129T164557Z
UID:10001287-1741192200-1741197600@www.whocaresscotland.org
SUMMARY:East Lothian Champions Board S1-S4
DESCRIPTION:Come along to the East Lothian Champions Board S1-S4 group and meet other Care Experienced young people\, share experiences and most importantly\, have FUN! \nWe meet every 2nd Wednesday\, the dates are: \n5th June \nLocation: The Gatehouse\, Musselburgh\, EH21 7JY \nContact: For more information you can get in touch with Keith Ward (Development Officer – South East) by emailing kward@whocaresscotland.org or calling 07712 870 335
URL:https://www.whocaresscotland.org/event/east-lothian-champions-board-s1-s4-2/2025-03-05/
LOCATION:The Gatehouse\, Musselburgh\, EH21 7JY
CATEGORIES:Group
ATTACH;FMTTYPE=image/png:https://www.whocaresscotland.org/wp-content/uploads/2024/05/215.png
END:VEVENT
BEGIN:VEVENT
DTSTART;TZID=UTC:20250219T163000
DTEND;TZID=UTC:20250219T180000
DTSTAMP:20260421T114511
CREATED:20250129T164326Z
LAST-MODIFIED:20250129T164557Z
UID:10001286-1739982600-1739988000@www.whocaresscotland.org
SUMMARY:East Lothian Champions Board S1-S4
DESCRIPTION:Come along to the East Lothian Champions Board S1-S4 group and meet other Care Experienced young people\, share experiences and most importantly\, have FUN! \nWe meet every 2nd Wednesday\, the dates are: \n5th June \nLocation: The Gatehouse\, Musselburgh\, EH21 7JY \nContact: For more information you can get in touch with Keith Ward (Development Officer – South East) by emailing kward@whocaresscotland.org or calling 07712 870 335
URL:https://www.whocaresscotland.org/event/east-lothian-champions-board-s1-s4-2/2025-02-19/
LOCATION:The Gatehouse\, Musselburgh\, EH21 7JY
CATEGORIES:Group
ATTACH;FMTTYPE=image/png:https://www.whocaresscotland.org/wp-content/uploads/2024/05/215.png
END:VEVENT
BEGIN:VEVENT
DTSTART;TZID=UTC:20250205T163000
DTEND;TZID=UTC:20250205T180000
DTSTAMP:20260421T114511
CREATED:20250129T164326Z
LAST-MODIFIED:20250129T164557Z
UID:10001285-1738773000-1738778400@www.whocaresscotland.org
SUMMARY:East Lothian Champions Board S1-S4
DESCRIPTION:Come along to the East Lothian Champions Board S1-S4 group and meet other Care Experienced young people\, share experiences and most importantly\, have FUN! \nWe meet every 2nd Wednesday\, the dates are: \n5th June \nLocation: The Gatehouse\, Musselburgh\, EH21 7JY \nContact: For more information you can get in touch with Keith Ward (Development Officer – South East) by emailing kward@whocaresscotland.org or calling 07712 870 335
URL:https://www.whocaresscotland.org/event/east-lothian-champions-board-s1-s4-2/2025-02-05/
LOCATION:The Gatehouse\, Musselburgh\, EH21 7JY
CATEGORIES:Group
ATTACH;FMTTYPE=image/png:https://www.whocaresscotland.org/wp-content/uploads/2024/05/215.png
END:VEVENT
BEGIN:VEVENT
DTSTART;TZID=UTC:20250122T163000
DTEND;TZID=UTC:20250122T180000
DTSTAMP:20260421T114511
CREATED:20250129T164326Z
LAST-MODIFIED:20250129T164557Z
UID:10001284-1737563400-1737568800@www.whocaresscotland.org
SUMMARY:East Lothian Champions Board S1-S4
DESCRIPTION:Come along to the East Lothian Champions Board S1-S4 group and meet other Care Experienced young people\, share experiences and most importantly\, have FUN! \nWe meet every 2nd Wednesday\, the dates are: \n5th June \nLocation: The Gatehouse\, Musselburgh\, EH21 7JY \nContact: For more information you can get in touch with Keith Ward (Development Officer – South East) by emailing kward@whocaresscotland.org or calling 07712 870 335
URL:https://www.whocaresscotland.org/event/east-lothian-champions-board-s1-s4-2/2025-01-22/
LOCATION:The Gatehouse\, Musselburgh\, EH21 7JY
CATEGORIES:Group
ATTACH;FMTTYPE=image/png:https://www.whocaresscotland.org/wp-content/uploads/2024/05/215.png
END:VEVENT
BEGIN:VEVENT
DTSTART;TZID=UTC:20250108T163000
DTEND;TZID=UTC:20250108T180000
DTSTAMP:20260421T114511
CREATED:20250129T164326Z
LAST-MODIFIED:20250129T164557Z
UID:10001257-1736353800-1736359200@www.whocaresscotland.org
SUMMARY:East Lothian Champions Board S1-S4
DESCRIPTION:Come along to the East Lothian Champions Board S1-S4 group and meet other Care Experienced young people\, share experiences and most importantly\, have FUN! \nWe meet every 2nd Wednesday\, the dates are: \n5th June \nLocation: The Gatehouse\, Musselburgh\, EH21 7JY \nContact: For more information you can get in touch with Keith Ward (Development Officer – South East) by emailing kward@whocaresscotland.org or calling 07712 870 335
URL:https://www.whocaresscotland.org/event/east-lothian-champions-board-s1-s4-2/2025-01-08/
LOCATION:The Gatehouse\, Musselburgh\, EH21 7JY
CATEGORIES:Group
ATTACH;FMTTYPE=image/png:https://www.whocaresscotland.org/wp-content/uploads/2024/05/215.png
END:VEVENT
BEGIN:VEVENT
DTSTART;TZID=UTC:20241211T163000
DTEND;TZID=UTC:20241211T180000
DTSTAMP:20260421T114511
CREATED:20240503T084108Z
LAST-MODIFIED:20240625T150928Z
UID:10001256-1733934600-1733940000@www.whocaresscotland.org
SUMMARY:East Lothian Champions Board S1-S4
DESCRIPTION:Come along to the East Lothian Champions Board S1-S4 group and meet other Care Experienced young people\, share experiences and most importantly\, have FUN! \nWe meet every 2nd Wednesday\, the dates are: \n5th June \nLocation: The Gatehouse\, Musselburgh\, EH21 7JY \nContact: For more information you can get in touch with Keith Ward (Development Officer – South East) by emailing kward@whocaresscotland.org or calling 07712 870 335
URL:https://www.whocaresscotland.org/event/east-lothian-champions-board-s1-s4/2024-12-11/
LOCATION:The Gatehouse\, Musselburgh\, EH21 7JY
CATEGORIES:Group
ATTACH;FMTTYPE=image/png:https://www.whocaresscotland.org/wp-content/uploads/2024/05/215.png
END:VEVENT
BEGIN:VEVENT
DTSTART;TZID=UTC:20241127T163000
DTEND;TZID=UTC:20241127T180000
DTSTAMP:20260421T114511
CREATED:20240503T084108Z
LAST-MODIFIED:20240625T150928Z
UID:10001255-1732725000-1732730400@www.whocaresscotland.org
SUMMARY:East Lothian Champions Board S1-S4
DESCRIPTION:Come along to the East Lothian Champions Board S1-S4 group and meet other Care Experienced young people\, share experiences and most importantly\, have FUN! \nWe meet every 2nd Wednesday\, the dates are: \n5th June \nLocation: The Gatehouse\, Musselburgh\, EH21 7JY \nContact: For more information you can get in touch with Keith Ward (Development Officer – South East) by emailing kward@whocaresscotland.org or calling 07712 870 335
URL:https://www.whocaresscotland.org/event/east-lothian-champions-board-s1-s4/2024-11-27/
LOCATION:The Gatehouse\, Musselburgh\, EH21 7JY
CATEGORIES:Group
ATTACH;FMTTYPE=image/png:https://www.whocaresscotland.org/wp-content/uploads/2024/05/215.png
END:VEVENT
BEGIN:VEVENT
DTSTART;TZID=UTC:20241113T163000
DTEND;TZID=UTC:20241113T180000
DTSTAMP:20260421T114511
CREATED:20240503T084108Z
LAST-MODIFIED:20240625T150928Z
UID:10001254-1731515400-1731520800@www.whocaresscotland.org
SUMMARY:East Lothian Champions Board S1-S4
DESCRIPTION:Come along to the East Lothian Champions Board S1-S4 group and meet other Care Experienced young people\, share experiences and most importantly\, have FUN! \nWe meet every 2nd Wednesday\, the dates are: \n5th June \nLocation: The Gatehouse\, Musselburgh\, EH21 7JY \nContact: For more information you can get in touch with Keith Ward (Development Officer – South East) by emailing kward@whocaresscotland.org or calling 07712 870 335
URL:https://www.whocaresscotland.org/event/east-lothian-champions-board-s1-s4/2024-11-13/
LOCATION:The Gatehouse\, Musselburgh\, EH21 7JY
CATEGORIES:Group
ATTACH;FMTTYPE=image/png:https://www.whocaresscotland.org/wp-content/uploads/2024/05/215.png
END:VEVENT
BEGIN:VEVENT
DTSTART;TZID=UTC:20241030T163000
DTEND;TZID=UTC:20241030T180000
DTSTAMP:20260421T114511
CREATED:20240503T084108Z
LAST-MODIFIED:20240625T150928Z
UID:10001253-1730305800-1730311200@www.whocaresscotland.org
SUMMARY:East Lothian Champions Board S1-S4
DESCRIPTION:Come along to the East Lothian Champions Board S1-S4 group and meet other Care Experienced young people\, share experiences and most importantly\, have FUN! \nWe meet every 2nd Wednesday\, the dates are: \n5th June \nLocation: The Gatehouse\, Musselburgh\, EH21 7JY \nContact: For more information you can get in touch with Keith Ward (Development Officer – South East) by emailing kward@whocaresscotland.org or calling 07712 870 335
URL:https://www.whocaresscotland.org/event/east-lothian-champions-board-s1-s4/2024-10-30/
LOCATION:The Gatehouse\, Musselburgh\, EH21 7JY
CATEGORIES:Group
ATTACH;FMTTYPE=image/png:https://www.whocaresscotland.org/wp-content/uploads/2024/05/215.png
END:VEVENT
BEGIN:VEVENT
DTSTART;TZID=UTC:20241016T163000
DTEND;TZID=UTC:20241016T180000
DTSTAMP:20260421T114511
CREATED:20240503T084108Z
LAST-MODIFIED:20240625T150928Z
UID:10001252-1729096200-1729101600@www.whocaresscotland.org
SUMMARY:East Lothian Champions Board S1-S4
DESCRIPTION:Come along to the East Lothian Champions Board S1-S4 group and meet other Care Experienced young people\, share experiences and most importantly\, have FUN! \nWe meet every 2nd Wednesday\, the dates are: \n5th June \nLocation: The Gatehouse\, Musselburgh\, EH21 7JY \nContact: For more information you can get in touch with Keith Ward (Development Officer – South East) by emailing kward@whocaresscotland.org or calling 07712 870 335
URL:https://www.whocaresscotland.org/event/east-lothian-champions-board-s1-s4/2024-10-16/
LOCATION:The Gatehouse\, Musselburgh\, EH21 7JY
CATEGORIES:Group
ATTACH;FMTTYPE=image/png:https://www.whocaresscotland.org/wp-content/uploads/2024/05/215.png
END:VEVENT
BEGIN:VEVENT
DTSTART;TZID=UTC:20241002T163000
DTEND;TZID=UTC:20241002T180000
DTSTAMP:20260421T114511
CREATED:20240503T084108Z
LAST-MODIFIED:20240625T150928Z
UID:10001251-1727886600-1727892000@www.whocaresscotland.org
SUMMARY:East Lothian Champions Board S1-S4
DESCRIPTION:Come along to the East Lothian Champions Board S1-S4 group and meet other Care Experienced young people\, share experiences and most importantly\, have FUN! \nWe meet every 2nd Wednesday\, the dates are: \n5th June \nLocation: The Gatehouse\, Musselburgh\, EH21 7JY \nContact: For more information you can get in touch with Keith Ward (Development Officer – South East) by emailing kward@whocaresscotland.org or calling 07712 870 335
URL:https://www.whocaresscotland.org/event/east-lothian-champions-board-s1-s4/2024-10-02/
LOCATION:The Gatehouse\, Musselburgh\, EH21 7JY
CATEGORIES:Group
ATTACH;FMTTYPE=image/png:https://www.whocaresscotland.org/wp-content/uploads/2024/05/215.png
END:VEVENT
BEGIN:VEVENT
DTSTART;TZID=UTC:20240918T163000
DTEND;TZID=UTC:20240918T180000
DTSTAMP:20260421T114511
CREATED:20240503T084108Z
LAST-MODIFIED:20240625T150928Z
UID:10001250-1726677000-1726682400@www.whocaresscotland.org
SUMMARY:East Lothian Champions Board S1-S4
DESCRIPTION:Come along to the East Lothian Champions Board S1-S4 group and meet other Care Experienced young people\, share experiences and most importantly\, have FUN! \nWe meet every 2nd Wednesday\, the dates are: \n5th June \nLocation: The Gatehouse\, Musselburgh\, EH21 7JY \nContact: For more information you can get in touch with Keith Ward (Development Officer – South East) by emailing kward@whocaresscotland.org or calling 07712 870 335
URL:https://www.whocaresscotland.org/event/east-lothian-champions-board-s1-s4/2024-09-18/
LOCATION:The Gatehouse\, Musselburgh\, EH21 7JY
CATEGORIES:Group
ATTACH;FMTTYPE=image/png:https://www.whocaresscotland.org/wp-content/uploads/2024/05/215.png
END:VEVENT
BEGIN:VEVENT
DTSTART;TZID=UTC:20240904T163000
DTEND;TZID=UTC:20240904T180000
DTSTAMP:20260421T114511
CREATED:20240503T084108Z
LAST-MODIFIED:20240625T150928Z
UID:10001249-1725467400-1725472800@www.whocaresscotland.org
SUMMARY:East Lothian Champions Board S1-S4
DESCRIPTION:Come along to the East Lothian Champions Board S1-S4 group and meet other Care Experienced young people\, share experiences and most importantly\, have FUN! \nWe meet every 2nd Wednesday\, the dates are: \n5th June \nLocation: The Gatehouse\, Musselburgh\, EH21 7JY \nContact: For more information you can get in touch with Keith Ward (Development Officer – South East) by emailing kward@whocaresscotland.org or calling 07712 870 335
URL:https://www.whocaresscotland.org/event/east-lothian-champions-board-s1-s4/2024-09-04/
LOCATION:The Gatehouse\, Musselburgh\, EH21 7JY
CATEGORIES:Group
ATTACH;FMTTYPE=image/png:https://www.whocaresscotland.org/wp-content/uploads/2024/05/215.png
END:VEVENT
BEGIN:VEVENT
DTSTART;TZID=UTC:20240821T163000
DTEND;TZID=UTC:20240821T180000
DTSTAMP:20260421T114512
CREATED:20240503T084108Z
LAST-MODIFIED:20240625T150928Z
UID:10001248-1724257800-1724263200@www.whocaresscotland.org
SUMMARY:East Lothian Champions Board S1-S4
DESCRIPTION:Come along to the East Lothian Champions Board S1-S4 group and meet other Care Experienced young people\, share experiences and most importantly\, have FUN! \nWe meet every 2nd Wednesday\, the dates are: \n5th June \nLocation: The Gatehouse\, Musselburgh\, EH21 7JY \nContact: For more information you can get in touch with Keith Ward (Development Officer – South East) by emailing kward@whocaresscotland.org or calling 07712 870 335
URL:https://www.whocaresscotland.org/event/east-lothian-champions-board-s1-s4/2024-08-21/
LOCATION:The Gatehouse\, Musselburgh\, EH21 7JY
CATEGORIES:Group
ATTACH;FMTTYPE=image/png:https://www.whocaresscotland.org/wp-content/uploads/2024/05/215.png
END:VEVENT
BEGIN:VEVENT
DTSTART;TZID=UTC:20240807T163000
DTEND;TZID=UTC:20240807T180000
DTSTAMP:20260421T114512
CREATED:20240503T084108Z
LAST-MODIFIED:20240625T150928Z
UID:10001247-1723048200-1723053600@www.whocaresscotland.org
SUMMARY:East Lothian Champions Board S1-S4
DESCRIPTION:Come along to the East Lothian Champions Board S1-S4 group and meet other Care Experienced young people\, share experiences and most importantly\, have FUN! \nWe meet every 2nd Wednesday\, the dates are: \n5th June \nLocation: The Gatehouse\, Musselburgh\, EH21 7JY \nContact: For more information you can get in touch with Keith Ward (Development Officer – South East) by emailing kward@whocaresscotland.org or calling 07712 870 335
URL:https://www.whocaresscotland.org/event/east-lothian-champions-board-s1-s4/2024-08-07/
LOCATION:The Gatehouse\, Musselburgh\, EH21 7JY
CATEGORIES:Group
ATTACH;FMTTYPE=image/png:https://www.whocaresscotland.org/wp-content/uploads/2024/05/215.png
END:VEVENT
BEGIN:VEVENT
DTSTART;TZID=UTC:20240724T163000
DTEND;TZID=UTC:20240724T180000
DTSTAMP:20260421T114512
CREATED:20240503T084108Z
LAST-MODIFIED:20240625T150928Z
UID:10001246-1721838600-1721844000@www.whocaresscotland.org
SUMMARY:East Lothian Champions Board S1-S4
DESCRIPTION:Come along to the East Lothian Champions Board S1-S4 group and meet other Care Experienced young people\, share experiences and most importantly\, have FUN! \nWe meet every 2nd Wednesday\, the dates are: \n5th June \nLocation: The Gatehouse\, Musselburgh\, EH21 7JY \nContact: For more information you can get in touch with Keith Ward (Development Officer – South East) by emailing kward@whocaresscotland.org or calling 07712 870 335
URL:https://www.whocaresscotland.org/event/east-lothian-champions-board-s1-s4/2024-07-24/
LOCATION:The Gatehouse\, Musselburgh\, EH21 7JY
CATEGORIES:Group
ATTACH;FMTTYPE=image/png:https://www.whocaresscotland.org/wp-content/uploads/2024/05/215.png
END:VEVENT
BEGIN:VEVENT
DTSTART;TZID=UTC:20240710T163000
DTEND;TZID=UTC:20240710T180000
DTSTAMP:20260421T114512
CREATED:20240503T084108Z
LAST-MODIFIED:20240625T150928Z
UID:10001245-1720629000-1720634400@www.whocaresscotland.org
SUMMARY:East Lothian Champions Board S1-S4
DESCRIPTION:Come along to the East Lothian Champions Board S1-S4 group and meet other Care Experienced young people\, share experiences and most importantly\, have FUN! \nWe meet every 2nd Wednesday\, the dates are: \n5th June \nLocation: The Gatehouse\, Musselburgh\, EH21 7JY \nContact: For more information you can get in touch with Keith Ward (Development Officer – South East) by emailing kward@whocaresscotland.org or calling 07712 870 335
URL:https://www.whocaresscotland.org/event/east-lothian-champions-board-s1-s4/2024-07-10/
LOCATION:The Gatehouse\, Musselburgh\, EH21 7JY
CATEGORIES:Group
ATTACH;FMTTYPE=image/png:https://www.whocaresscotland.org/wp-content/uploads/2024/05/215.png
END:VEVENT
BEGIN:VEVENT
DTSTART;TZID=UTC:20240626T163000
DTEND;TZID=UTC:20240626T180000
DTSTAMP:20260421T114512
CREATED:20240503T084108Z
LAST-MODIFIED:20240625T150928Z
UID:10001244-1719419400-1719424800@www.whocaresscotland.org
SUMMARY:East Lothian Champions Board S1-S4
DESCRIPTION:Come along to the East Lothian Champions Board S1-S4 group and meet other Care Experienced young people\, share experiences and most importantly\, have FUN! \nWe meet every 2nd Wednesday\, the dates are: \n5th June \nLocation: The Gatehouse\, Musselburgh\, EH21 7JY \nContact: For more information you can get in touch with Keith Ward (Development Officer – South East) by emailing kward@whocaresscotland.org or calling 07712 870 335
URL:https://www.whocaresscotland.org/event/east-lothian-champions-board-s1-s4/2024-06-26/
LOCATION:The Gatehouse\, Musselburgh\, EH21 7JY
CATEGORIES:Group
ATTACH;FMTTYPE=image/png:https://www.whocaresscotland.org/wp-content/uploads/2024/05/215.png
END:VEVENT
END:VCALENDAR