BEGIN:VCALENDAR
VERSION:2.0
PRODID:-//Who Cares? Scotland - ECPv6.15.20//NONSGML v1.0//EN
CALSCALE:GREGORIAN
METHOD:PUBLISH
X-ORIGINAL-URL:https://www.whocaresscotland.org
X-WR-CALDESC:Events for Who Cares? Scotland
REFRESH-INTERVAL;VALUE=DURATION:PT1H
X-Robots-Tag:noindex
X-PUBLISHED-TTL:PT1H
BEGIN:VTIMEZONE
TZID:UTC
BEGIN:STANDARD
TZOFFSETFROM:+0000
TZOFFSETTO:+0000
TZNAME:UTC
DTSTART:20250101T000000
END:STANDARD
END:VTIMEZONE
BEGIN:VEVENT
DTSTART;VALUE=DATE:20260607
DTEND;VALUE=DATE:20260608
DTSTAMP:20260421T113515
CREATED:20250127T151341Z
LAST-MODIFIED:20260210T100659Z
UID:10001276-1780790400-1780876799@www.whocaresscotland.org
SUMMARY:Aberdeen Kiltwalk 2026
DESCRIPTION:The Kiltwalk is Scotland’s largest mass participation walking event where thousands of people walk together to raise funds for hundreds of different charities. \nIf you chose to walk in Aberdeen on the 7th June\, you will have a choice of 2 distances\, either: \nThe Wee Wander – 4 miles \nor The Mighty Stride – 18 miles \nWill you join us in #SteppingUp? \nBy taking part in the Kiltwalk on behalf of Who Cares? Scotland\, the money you raise will help make a difference to the lives of Care Experienced children\, young people and adults all over Scotland. \n					\n									Sign Up Now\n					 \nThe event costs between £13 – £20 depending on the distance walked. \nThank you for choosing to fundraise for Who Cares? Scotland – we are incredibly grateful for your support. \nTo help ensure that funds raised go directly to our work supporting Care Experienced people\, we kindly ask that fundraisers cover the cost of the event entry fee in the first instance. This avoids the organisation being out of pocket if the funds raised do not cover the cost of the entry fee. \nIf you raise more than the cost of your entry fee\, we’ll be happy to look at reimbursing this\, subject to approval and available funds. \nIf you have any questions about this policy or would like to discuss your fundraising plans\, please don’t hesitate to get in touch with us at fundraising@whocaresscotland.org.uk. We’re here to support you every step of the way. \nThank you again for supporting Who Cares? Scotland. \nhttps://vimeo.com/791193047
URL:https://www.whocaresscotland.org/event/aberdeen-kiltwalk-2026/
CATEGORIES:Fundraising
ATTACH;FMTTYPE=image/png:https://www.whocaresscotland.org/wp-content/uploads/2026/01/Aberdeen-Kiltwalk.png
END:VEVENT
BEGIN:VEVENT
DTSTART;VALUE=DATE:20260816
DTEND;VALUE=DATE:20260817
DTSTAMP:20260421T113515
CREATED:20250127T201835Z
LAST-MODIFIED:20260210T100559Z
UID:10001279-1786838400-1786924799@www.whocaresscotland.org
SUMMARY:Dundee Kiltwalk 2026
DESCRIPTION:The Kiltwalk is Scotland’s largest mass participation walking event where thousands of people walk together to raise funds for hundreds of different charities. \nIf you choose to walk in Dundee on the 17th August\, you will have a choice of 2 distances\, either: \nThe Wee Wander – 4 miles \nor The Mighty Stride – 20 miles \nWill you join us in #SteppingUp? \nBy taking part in the Kiltwalk on behalf of Who Cares? Scotland\, the money you raise will help make a difference to the lives of Care Experienced children\, young people and adults all over Scotland. \n					\n									Sign Up Now\n					 \nThe event costs between £13 – £20 depending on the distance walked. \nThank you for choosing to fundraise for Who Cares? Scotland – we are incredibly grateful for your support. \nTo help ensure that funds raised go directly to our work supporting Care Experienced people\, we kindly ask that fundraisers cover the cost of the event entry fee in the first instance. This avoids the organisation being out of pocket if the funds raised do not cover the cost of the entry fee. \nIf you raise more than the cost of your entry fee\, we’ll be happy to look at reimbursing this\, subject to approval and available funds. \nIf you have any questions about this policy or would like to discuss your fundraising plans\, please don’t hesitate to get in touch with us at fundraising@whocaresscotland.org.uk. We’re here to support you every step of the way. \nThank you again for supporting Who Cares? Scotland. \nhttps://vimeo.com/791193047
URL:https://www.whocaresscotland.org/event/dundee-kiltwalk-2026/
CATEGORIES:Fundraising
ATTACH;FMTTYPE=image/png:https://www.whocaresscotland.org/wp-content/uploads/2026/01/Dundee-Kiltwalk.png
END:VEVENT
BEGIN:VEVENT
DTSTART;VALUE=DATE:20260816
DTEND;VALUE=DATE:20260817
DTSTAMP:20260421T113515
CREATED:20260210T102321Z
LAST-MODIFIED:20260211T155006Z
UID:10001332-1786838400-1786924799@www.whocaresscotland.org
SUMMARY:Scottish 10k
DESCRIPTION:The Scottish 10K is the ultimate running experience combining fast\, flat routes with a stunning view of East Lothian’s Golf Coast – come and be a part of it! \nThe route is seriously flat & rapid – if you want to set a personal best for a half marathon\, then this is the event for you. Starting just outside Edinburgh\, you run along the magnificent East Lothian Golf Coast before finishing in the final furlong at Musselburgh Racecourse\, Scotland’s oldest racecourse. The Scottish 10K is Scotland’s newest 10K and a fantastic opportunity to grab that elusive PB! \nIf you’ve never run before\, or this will be your 100th running event\, you can’t afford to miss out on what is going to be the ‘must-do’ running event. It’s fresh and it’s exciting – give it a go and set your challenge today! \nThank you for choosing to fundraise for Who Cares? Scotland – we are incredibly grateful for your support. \nTo help ensure that funds raised go directly to our work supporting Care Experienced people\, we kindly ask that fundraisers cover the cost of the event entry fee in the first instance. This avoids the organisation being out of pocket if the funds raised do not cover the cost of the entry fee. \nIf you raise more than the cost of your entry fee\, we’ll be happy to look at reimbursing this\, subject to approval and available funds. \nIf you have any questions about this policy or would like to discuss your fundraising plans\, please don’t hesitate to get in touch with us at fundraising@whocaresscotland.org.uk. We’re here to support you every step of the way. \n\nSign Up Now!
URL:https://www.whocaresscotland.org/event/scottish-10k-2026/
CATEGORIES:Fundraising
ATTACH;FMTTYPE=image/jpeg:https://www.whocaresscotland.org/wp-content/uploads/2026/02/Scottish-run-1-scaled.jpg
END:VEVENT
BEGIN:VEVENT
DTSTART;VALUE=DATE:20260816
DTEND;VALUE=DATE:20260817
DTSTAMP:20260421T113515
CREATED:20260210T105743Z
LAST-MODIFIED:20260211T154916Z
UID:10001334-1786838400-1786924799@www.whocaresscotland.org
SUMMARY:Scottish Half Marathon
DESCRIPTION:Get ready for the ultimate running event\, with the combination of flat roads and the most stunning views of the East Lothian Coast\, what are you waiting for?   \nThe Scottish Half Marathon is seriously smooth & rapid – which is great for charity runners and those new to marathon running\, but also a perfect event for those seasoned marathon runners looking to set a new personal best. \nThe Scottish half marathon kicks off on the outskirts of Edinburgh and takes you along the most magnificent paths along the East Lothian Golf Coast. The Marathon finish line sits in Scotland’s Oldest Racecourse. \nThank you for choosing to fundraise for Who Cares? Scotland – we are incredibly grateful for your support. \nTo help ensure that funds raised go directly to our work supporting Care Experienced people\, we kindly ask that fundraisers cover the cost of the event entry fee in the first instance. This avoids the organisation being out of pocket if the funds raised do not cover the cost of the entry fee. \nIf you raise more than the cost of your entry fee\, we’ll be happy to look at reimbursing this\, subject to approval and available funds. \nIf you have any questions about this policy or would like to discuss your fundraising plans\, please don’t hesitate to get in touch with us at fundraising@whocaresscotland.org.uk. We’re here to support you every step of the way. \n\nRegister Now
URL:https://www.whocaresscotland.org/event/scottish-half-marathon-26/
CATEGORIES:Fundraising
ATTACH;FMTTYPE=image/jpeg:https://www.whocaresscotland.org/wp-content/uploads/2026/02/Scottish-run-scaled.jpg
END:VEVENT
BEGIN:VEVENT
DTSTART;VALUE=DATE:20260913
DTEND;VALUE=DATE:20260914
DTSTAMP:20260421T113515
CREATED:20250127T220941Z
LAST-MODIFIED:20260210T100338Z
UID:10001281-1789257600-1789343999@www.whocaresscotland.org
SUMMARY:Edinburgh Kiltwalk 2026
DESCRIPTION:The Kiltwalk is Scotland’s largest mass participation walking event where thousands of people walk together to raise funds for hundreds of different charities. \nIf you choose to walk in Edinburgh on the 13th Septmber\, you will have a choice of 3 distances\, either: \nThe Wee Wander – 5 miles \nThe Big Stroll – 11 miles \nor The Mighty Stride – 20 miles \nWill you join us in #SteppingUp? \nBy taking part in the Kiltwalk on behalf of Who Cares? Scotland\, the money you raise will help make a difference to the lives of Care Experienced children\, young people and adults all over Scotland. \n					\n									Sign Up Now\n					 \nThe event costs between £13 – £20 depending on the distance walked. \nThank you for choosing to fundraise for Who Cares? Scotland – we are incredibly grateful for your support. \nTo help ensure that funds raised go directly to our work supporting Care Experienced people\, we kindly ask that fundraisers cover the cost of the event entry fee in the first instance. This avoids the organisation being out of pocket if the funds raised do not cover the cost of the entry fee. \nIf you raise more than the cost of your entry fee\, we’ll be happy to look at reimbursing this\, subject to approval and available funds. \nIf you have any questions about this policy or would like to discuss your fundraising plans\, please don’t hesitate to get in touch with us at fundraising@whocaresscotland.org.uk. We’re here to support you every step of the way. \nThank you again for supporting Who Cares? Scotland. \nhttps://vimeo.com/791193047
URL:https://www.whocaresscotland.org/event/edinburgh-kiltwalk-2026/
CATEGORIES:Fundraising
ATTACH;FMTTYPE=image/png:https://www.whocaresscotland.org/wp-content/uploads/2026/01/Edinburgh-Kiltwalk.png
END:VEVENT
BEGIN:VEVENT
DTSTART;VALUE=DATE:20261004
DTEND;VALUE=DATE:20261005
DTSTAMP:20260421T113515
CREATED:20260210T103123Z
LAST-MODIFIED:20260211T144053Z
UID:10001333-1791072000-1791158399@www.whocaresscotland.org
SUMMARY:Great Scottish Run 2026
DESCRIPTION:With a city centre start and finish\, the AJ Bell Great Scottish Run is a celebration of everything that is great about Glasgow: inspiring urban architecture\, green spaces\, history\, music\, strength\, spirit and\, of course\, great people\, personality and humour. \nThe city always delivers on the support front too\, with crowds of locals turning out each year to cheer and high-five from beginning to end. Plus\, there are medals\, finisher t-shirts and bragging rights for all! \nTake part either by competing in the 10K or the Half Marathon.  \nThank you for choosing to fundraise for Who Cares? Scotland – we are incredibly grateful for your support. \nTo help ensure that funds raised go directly to our work supporting Care Experienced people\, we kindly ask that fundraisers cover the cost of the event entry fee in the first instance. This avoids the organisation being out of pocket if the funds raised do not cover the cost of the entry fee. \nIf you raise more than the cost of your entry fee\, we’ll be happy to look at reimbursing this\, subject to approval and available funds. \nIf you have any questions about this policy or would like to discuss your fundraising plans\, please don’t hesitate to get in touch with us at fundraising@whocaresscotland.org.uk. We’re here to support you every step of the way. \n					\n									Sign Up for the 10K\n					\n					\n									Sign Up for the Half Marathon
URL:https://www.whocaresscotland.org/event/great-scottish-run/
CATEGORIES:Fundraising
ATTACH;FMTTYPE=image/png:https://www.whocaresscotland.org/wp-content/uploads/2025/01/AJ-Bell-Great-Scottish-Run-25.png
END:VEVENT
END:VCALENDAR