BEGIN:VCALENDAR
VERSION:2.0
PRODID:-//Who Cares? Scotland - ECPv6.15.20//NONSGML v1.0//EN
CALSCALE:GREGORIAN
METHOD:PUBLISH
X-WR-CALNAME:Who Cares? Scotland
X-ORIGINAL-URL:https://www.whocaresscotland.org
X-WR-CALDESC:Events for Who Cares? Scotland
REFRESH-INTERVAL;VALUE=DURATION:PT1H
X-Robots-Tag:noindex
X-PUBLISHED-TTL:PT1H
BEGIN:VTIMEZONE
TZID:UTC
BEGIN:STANDARD
TZOFFSETFROM:+0000
TZOFFSETTO:+0000
TZNAME:UTC
DTSTART:20250101T000000
END:STANDARD
END:VTIMEZONE
BEGIN:VEVENT
DTSTART;TZID=UTC:20260224T100000
DTEND;TZID=UTC:20260224T120000
DTSTAMP:20260422T212535
CREATED:20250820T142840Z
LAST-MODIFIED:20260121T145612Z
UID:10001320-1771927200-1771934400@www.whocaresscotland.org
SUMMARY:Collaborative Themed Learning session - University
DESCRIPTION:There will be two collaborative learning sessions this year — one focused on college\, and one focused on university. In this second session\, focused on university\, the Education and Engagement team will explore key advocacy issues that the Care Experienced community can face in tertiary education. This session will help you to gain a better understanding of the barriers Care Experienced students encounter while studying at university\, and inspire you on your journey as a supportive Corporate Parent. We will utilise breakout rooms in this session to provide space for discussion\, and allow you to collaborate with your fellow Corporate Parents. —————————— The Education & Engagement Team are funded by Scottish Government to provide support and learning sessions to Corporate Parents. Therefore this event if free for anyone working for one of the 26 Corporate Parents named in legislation. If you do not work for a named Corporate Parent but work in a sector that is closely connected to caring for and supporting people with care experience\, you are still more than welcome to attend this event. We just ask that you select the ‘non Corporate Parent organisation’ option to pay the small fee of £10 to help support the work that we do and to help us achieve our vision for: A lifetime of equality\, respect and love for Care Experienced people. 								\n				\n				\n				\n									\n					\n						\n									Register Here!\n					\n					\n				\n								\n				\n				\n				\n									To find out more:  Contact the Education & Engagement Team at corporateparenting@whocaresscotland.org
URL:https://www.whocaresscotland.org/event/collaborative-themed-learning-session-university/
CATEGORIES:Training
ATTACH;FMTTYPE=image/png:https://www.whocaresscotland.org/wp-content/uploads/2025/08/university-web-thumbnail.png
END:VEVENT
END:VCALENDAR