BEGIN:VCALENDAR
VERSION:2.0
PRODID:-//Who Cares? Scotland - ECPv6.15.20//NONSGML v1.0//EN
CALSCALE:GREGORIAN
METHOD:PUBLISH
X-WR-CALNAME:Who Cares? Scotland
X-ORIGINAL-URL:https://www.whocaresscotland.org
X-WR-CALDESC:Events for Who Cares? Scotland
REFRESH-INTERVAL;VALUE=DURATION:PT1H
X-Robots-Tag:noindex
X-PUBLISHED-TTL:PT1H
BEGIN:VTIMEZONE
TZID:UTC
BEGIN:STANDARD
TZOFFSETFROM:+0000
TZOFFSETTO:+0000
TZNAME:UTC
DTSTART:20250101T000000
END:STANDARD
END:VTIMEZONE
BEGIN:VEVENT
DTSTART;VALUE=DATE:20260407
DTEND;VALUE=DATE:20260701
DTSTAMP:20260425T102907
CREATED:20260407T111009Z
LAST-MODIFIED:20260407T111746Z
UID:10001339-1775520000-1782863999@www.whocaresscotland.org
SUMMARY:Volunteer Youth Worker - Shetland
DESCRIPTION:Do you have 2-3 hours in your month to support Care Experienced young people in your area? We provide regular groups to bring Care Experienced young people together and provide an opportunity for participation and belonging within their community. We are looking for a Volunteer Youth Worker to work alongside our Development Officer to support the running and activities of these new groups. Role Requirements – – Ability to work well in a team – Ability to encourage others to get involved with the activities – Enthusiasm and commitment to the role Who Cares? Scotland is a people organisation. We invest in our people\, our relationships and in a positive working culture. It’s important to us that our volunteer team is included\, involved and motivated to change society. We aim to recruit people with excellent qualities from a wide variety of backgrounds who share in our mission. We particularly welcome applications from individuals with care experience. 								\n				\n				\n				\n									Location: Clydebank 								\n				\n				\n				\n									Contact info:  If you would like to apply for the role or discuss it further please email – volunteering@whocaresscotland.org
URL:https://www.whocaresscotland.org/event/shetland-volunteer-youth-worker/
CATEGORIES:Volunteering
ATTACH;FMTTYPE=image/png:https://www.whocaresscotland.org/wp-content/uploads/2026/04/Inflatable-5k-Glasgow.png
END:VEVENT
BEGIN:VEVENT
DTSTART;VALUE=DATE:20260407
DTEND;VALUE=DATE:20260731
DTSTAMP:20260425T102907
CREATED:20260424T132952Z
LAST-MODIFIED:20260424T134229Z
UID:10001342-1775520000-1785455999@www.whocaresscotland.org
SUMMARY:Volunteer Youth Worker - Clydebank
DESCRIPTION:Do you have 2-3 hours in your month to support Care Experienced young people in your area? We provide regular groups to bring Care Experienced young people together and provide an opportunity for participation and belonging within their community. We are looking for a Volunteer Youth Worker to work alongside our Development Officer to support the running and activities of these new groups. Role Requirements – – Ability to work well in a team – Ability to encourage others to get involved with the activities – Enthusiasm and commitment to the role Who Cares? Scotland is a people organisation. We invest in our people\, our relationships and in a positive working culture. It’s important to us that our volunteer team is included\, involved and motivated to change society. We aim to recruit people with excellent qualities from a wide variety of backgrounds who share in our mission. We particularly welcome applications from individuals with care experience. 								\n				\n				\n				\n									Location: Clydebank 								\n				\n				\n				\n									Contact info:  If you would like to apply for the role or discuss it further please email – volunteering@whocaresscotland.org
URL:https://www.whocaresscotland.org/event/volunteer-youth-worker-clydebank/
CATEGORIES:Volunteering
ATTACH;FMTTYPE=image/png:https://www.whocaresscotland.org/wp-content/uploads/2026/04/Inflatable-5k-Glasgow-1.png
END:VEVENT
BEGIN:VEVENT
DTSTART;VALUE=DATE:20260417
DTEND;VALUE=DATE:20260511
DTSTAMP:20260425T102907
CREATED:20260417T141058Z
LAST-MODIFIED:20260417T141124Z
UID:10001340-1776384000-1778457599@www.whocaresscotland.org
SUMMARY:Communities that Care Development Officer
DESCRIPTION:Do you have 2-3 hours in your month to support Care Experienced young people in your area? We provide regular groups to bring Care Experienced young people together and provide an opportunity for participation and belonging within their community. We are looking for a Volunteer Youth Worker to work alongside our Development Officer to support the running and activities of these new groups. Role Requirements – – Ability to work well in a team – Ability to encourage others to get involved with the activities – Enthusiasm and commitment to the role Who Cares? Scotland is a people organisation. We invest in our people\, our relationships and in a positive working culture. It’s important to us that our volunteer team is included\, involved and motivated to change society. We aim to recruit people with excellent qualities from a wide variety of backgrounds who share in our mission. We particularly welcome applications from individuals with care experience. 								\n				\n				\n				\n									Location: Clydebank 								\n				\n				\n				\n									Contact info:  If you would like to apply for the role or discuss it further please email – volunteering@whocaresscotland.org
URL:https://www.whocaresscotland.org/event/communities-that-care-development-officer-2/
CATEGORIES:Vacancy
ATTACH;FMTTYPE=image/png:https://www.whocaresscotland.org/wp-content/uploads/2026/04/Volunteer-Participation-Officer-33.png
END:VEVENT
BEGIN:VEVENT
DTSTART;VALUE=DATE:20260423
DTEND;VALUE=DATE:20260524
DTSTAMP:20260425T102907
CREATED:20260423T150408Z
LAST-MODIFIED:20260423T150627Z
UID:10001341-1776902400-1779580799@www.whocaresscotland.org
SUMMARY:Communities that Care Development Officer - Edinburgh
DESCRIPTION:Do you have 2-3 hours in your month to support Care Experienced young people in your area? We provide regular groups to bring Care Experienced young people together and provide an opportunity for participation and belonging within their community. We are looking for a Volunteer Youth Worker to work alongside our Development Officer to support the running and activities of these new groups. Role Requirements – – Ability to work well in a team – Ability to encourage others to get involved with the activities – Enthusiasm and commitment to the role Who Cares? Scotland is a people organisation. We invest in our people\, our relationships and in a positive working culture. It’s important to us that our volunteer team is included\, involved and motivated to change society. We aim to recruit people with excellent qualities from a wide variety of backgrounds who share in our mission. We particularly welcome applications from individuals with care experience. 								\n				\n				\n				\n									Location: Clydebank 								\n				\n				\n				\n									Contact info:  If you would like to apply for the role or discuss it further please email – volunteering@whocaresscotland.org
URL:https://www.whocaresscotland.org/event/communities-that-care-development-officer-edinburgh/
CATEGORIES:Vacancy
ATTACH;FMTTYPE=image/png:https://www.whocaresscotland.org/wp-content/uploads/2026/04/Volunteer-Participation-Officer-35-1.png
END:VEVENT
BEGIN:VEVENT
DTSTART;VALUE=DATE:20260425
DTEND;VALUE=DATE:20260427
DTSTAMP:20260425T102907
CREATED:20250123T100312Z
LAST-MODIFIED:20260210T100731Z
UID:10000198-1777075200-1777247999@www.whocaresscotland.org
SUMMARY:Glasgow Kiltwalk 2026
DESCRIPTION:Do you have 2-3 hours in your month to support Care Experienced young people in your area? We provide regular groups to bring Care Experienced young people together and provide an opportunity for participation and belonging within their community. We are looking for a Volunteer Youth Worker to work alongside our Development Officer to support the running and activities of these new groups. Role Requirements – – Ability to work well in a team – Ability to encourage others to get involved with the activities – Enthusiasm and commitment to the role Who Cares? Scotland is a people organisation. We invest in our people\, our relationships and in a positive working culture. It’s important to us that our volunteer team is included\, involved and motivated to change society. We aim to recruit people with excellent qualities from a wide variety of backgrounds who share in our mission. We particularly welcome applications from individuals with care experience. 								\n				\n				\n				\n									Location: Clydebank 								\n				\n				\n				\n									Contact info:  If you would like to apply for the role or discuss it further please email – volunteering@whocaresscotland.org
URL:https://www.whocaresscotland.org/event/glasgow-kiltwalk-2026/
CATEGORIES:Fundraising
ATTACH;FMTTYPE=image/png:https://www.whocaresscotland.org/wp-content/uploads/2026/01/Glasgow-Kiltwalk.png
END:VEVENT
END:VCALENDAR